

<!--UdmComment-->
BEGIN:VCALENDAR
PRODID:http://www.justiz.nrw.de/
VERSION:2.0
METHOD:PUBLISH
BEGIN:VEVENT
DTSTART;VALUE=DATE:20180512
DTEND;VALUE=DATE:20180513
DTSTAMP;VALUE=DATE:20180525T095137
LOCATION:
UID:40955189@justiz.nrw.de
DESCRIPTION:Das FWT-Altentheaterensemble zeigt in seinem Bühnenstück Ausgetrickst - Nicht mit uns! eindrucksvoll, welche Tricks Betrüger und Diebe bei älteren Menschen anwenden und wie diese sich schützen können. Die dargestellten Situationen spiegeln teils selbsterlebtes wieder, andere sind mit der Polizei Köln erarbeitet worden.\n \nTermine:\n1. März 2018 in Bielefeld\n18. April 2018 in Münster\n12. Mai 2018 in Essen\n
SUMMARY:Theaterstück "Ausgetrickst - Nicht mit uns!"
END:VEVENT
END:VCALENDAR
<!--/UdmComment-->


