

<!--UdmComment-->
BEGIN:VCALENDAR
PRODID:http://www.justiz.nrw.de/
VERSION:2.0
METHOD:PUBLISH
BEGIN:VEVENT
DTSTART;VALUE=DATE:20180816
DTEND;VALUE=DATE:20180924
DTSTAMP;VALUE=DATE:20180816T112307
LOCATION:
UID:42023069@justiz.nrw.de
DESCRIPTION:Engagement und Digitalisierung - neue Potenziale nutzen\nDer Engagementpreis NRW 2019, der von der Landesregierung und der NRW-Stiftung ausgelobt wird, richtet sich an gemeinnützige Vereine, Stiftungen, gemeinnützige GmbHs und Bürgerinitiativen mit Sitz in Nordrhein-Westfalen. \n\nAnmeldung: Bewerbungsschluss ist der 23. September 2018\nKontakt: https://www.engagiert-in-nrw.de/
SUMMARY:Engagementpreis NRW 2019
END:VEVENT
END:VCALENDAR
<!--/UdmComment-->


