

<!--UdmComment-->
BEGIN:VCALENDAR
PRODID:http://www.justiz.nrw.de/
VERSION:2.0
METHOD:PUBLISH
BEGIN:VEVENT
DTSTART;VALUE=DATE:20190618
DTEND;VALUE=DATE:20190619
DTSTAMP;VALUE=DATE:20190527T160817
LOCATION:
UID:43670297@justiz.nrw.de
DESCRIPTION:Am 18. Juni 2019 findet die dritte Sitzung des Landespräventionsrates NRW statt.\n
SUMMARY:Dritte Sitzung des Landespräventionsrates
END:VEVENT
END:VCALENDAR
<!--/UdmComment-->


