

<!--UdmComment-->
BEGIN:VCALENDAR
PRODID:http://www.justiz.nrw.de/
VERSION:2.0
METHOD:PUBLISH
BEGIN:VEVENT
DTSTART;VALUE=DATE:20230612
DTEND;VALUE=DATE:20230614
DTSTAMP;VALUE=DATE:20230628T082318
LOCATION:
UID:51244061@justiz.nrw.de
DESCRIPTION:Weitere Infos finden Sie auf unserer Informationsseite zum Präventionstag.
SUMMARY:28. Deutsche Präventionstag in Mannheim
END:VEVENT
END:VCALENDAR
<!--/UdmComment-->


