

<!--UdmComment-->
BEGIN:VCALENDAR
PRODID:http://www.justiz.nrw.de/
VERSION:2.0
METHOD:PUBLISH
BEGIN:VEVENT
DTSTART;VALUE=DATE:20240311
DTEND;VALUE=DATE:20240312
DTSTAMP;VALUE=DATE:20240805T145307
LOCATION:
UID:53635193@justiz.nrw.de
DESCRIPTION:Am 11. März 2024 findet die konstituierende Sitzung des Landespräventionsrates NRW statt.
SUMMARY:Konstituierende Sitzung des Landespräventionsrates
END:VEVENT
END:VCALENDAR
<!--/UdmComment-->


